BEGIN:VCALENDAR
VERSION:2.0
METHOD:PUBLISH
X-WR-CALNAME:VFEK |  szeptember 08 2010- szeptember 08 2010
PRODID:-//strange bird labs//Drupal iCal API//EN
BEGIN:VEVENT
DTSTAMP;VALUE=DATE-TIME:20260420T235027Z
DTSTART;VALUE=DATE-TIME:20100901T090000Z
DTEND;VALUE=DATE-TIME:20100930T170000Z
UID:http://portal.vfmk.hu/node/1106
URL;VALUE=URI:http://portal.vfmk.hu/node/1106
SUMMARY:\\"Szolnok a kedvenc városom\\" kamarakiállítás
DESCRIPTION:<p class=\\"rtecenter\\"><span style=\\"font-size\: small\;\\"><span style=\\"font-family\: Verdana\;\\">A J&aacute\;sz-Nagykun-Szolnok Megyei Verseghy Ferenc K&ouml\;nyvt&aacute\;r &eacute\;s Művelőd&eacute\;si Int&eacute\;zet</span></span><br />
 <span style=\\"font-size\: small\;\\"><span style=\\"font-family\: Verdana\;\\">tisztelettel megh&iacute\;vja &Ouml\;nt</span></span><br />
 <span style=\\"font-size\: small\;\\"><span style=\\"font-family\: Verdana\;\\">a v&aacute\;ros napja alkalm&aacute\;b&oacute\;l rendezett</span></span></p>
 <p class=\\"rtecenter\\"><strong><span style=\\"font-size\: medium\;\\"><span style=\\"font-family\: Verdana\;\\">&quot\;Szolnok a kedvenc v&aacute\;rosom&quot\;</span></span></strong><span style=\\"font-size\: small\;\\"><span style=\\"font-family\: Verdana\;\\"><br />
 c&iacute\;mű<br />
 kamaraki&aacute\;ll&iacute\;t&aacute\;s&aacute\;nak megnyit&oacute\;j&aacute\;ra</span></span></p>
 <p class=\\"rtecenter\\"><span style=\\"font-size\: small\;\\"><span style=\\"font-family\: Verdana\;\\">2010. <strong>szeptember 1</strong>-j&eacute\;n <strong>10.00</strong> &oacute\;r&aacute\;ra<br />
 a H&iacute\;rlapolvas&oacute\;ba.<br />
 (Szolnok\, Kossuth t&eacute\;r 2.)</span></span></p>
 <p class=\\"rtejustify\\"><span style=\\"font-size\: small\;\\"><span style=\\"font-family\: Verdana\;\\">A t&aacute\;rlaton a 2010 tavasz&aacute\;n lezajlott &quot\;Szolnok a kedvenc v&aacute\;rosom&quot\; elnevez&eacute\;sű helyt&ouml\;rt&eacute\;neti vet&eacute\;lkedőre k&eacute\;sz&uuml\;lt k&ouml\;z&eacute\;piskol&aacute\;s alkot&aacute\;sok ker&uuml\;lnek bemutat&aacute\;sra.</span></span></p>
 <p class=\\"rtejustify\\"><span style=\\"font-size\: small\;\\"><span style=\\"font-family\: Verdana\;\\">A ki&aacute\;ll&iacute\;t&aacute\;s megtekinthető szeptember 30-ig a k&ouml\;nyvt&aacute\;r nyitvatart&aacute\;si idej&eacute\;ben (keddtől p&eacute\;ntekig 10.00 &oacute\;r&aacute\;t&oacute\;l 18.00 &oacute\;r&aacute\;ig).</span></span></p>
 <p class=\\"rtecenter\\"><strong><span style=\\"font-size\: small\;\\"><span style=\\"font-family\: Verdana\;\\">J&aacute\;tsszon vel&uuml\;nk &Ouml\;n is!</span></span></strong></p>
 <p class=\\"rtejustify\\"><span style=\\"font-size\: small\;\\"><span style=\\"font-family\: Verdana\;\\">A ki&aacute\;ll&iacute\;t&aacute\;shoz kapcsol&oacute\;d&oacute\; v&aacute\;rost&ouml\;rt&eacute\;neti j&aacute\;t&eacute\;kkal pr&oacute\;b&aacute\;ra teheti Szolnokr&oacute\;l szerzett ismereteit.<br />
 </span></span></p>
END:VEVENT
END:VCALENDAR
